BEGIN:VCALENDAR
VERSION:2.0
PRODID:-//Carrickmines Croquet &amp; Lawn Tennis Club - ECPv6.15.20//NONSGML v1.0//EN
CALSCALE:GREGORIAN
METHOD:PUBLISH
X-ORIGINAL-URL:https://www.carrickmines.com
X-WR-CALDESC:Events for Carrickmines Croquet &amp; Lawn Tennis Club
REFRESH-INTERVAL;VALUE=DURATION:PT1H
X-Robots-Tag:noindex
X-PUBLISHED-TTL:PT1H
BEGIN:VTIMEZONE
TZID:UTC
BEGIN:STANDARD
TZOFFSETFROM:+0000
TZOFFSETTO:+0000
TZNAME:UTC
DTSTART:20200101T000000
END:STANDARD
END:VTIMEZONE
BEGIN:VEVENT
DTSTART;TZID=UTC:20210710T080000
DTEND;TZID=UTC:20210717T203000
DTSTAMP:20260423T104340
CREATED:20210525T114802Z
LAST-MODIFIED:20210711T092300Z
UID:9161-1625904000-1626553800@www.carrickmines.com
SUMMARY:Senior Open
DESCRIPTION:Sponsored by Hunters Estate Agent \n10th – 17th July 2021 \nCome and join in the fun – events for everyone  \nClick HERE To See The Schedule
URL:https://www.carrickmines.com/event/senior-open-2/
CATEGORIES:Senior Tennis
ATTACH;FMTTYPE=image/png:https://www.carrickmines.com/wp-content/uploads/2021/01/location504x309.png
ORGANIZER;CN="Pat Crowe":MAILTO:tennis@carrickmines.com
END:VEVENT
BEGIN:VEVENT
DTSTART;TZID=UTC:20210724T103000
DTEND;TZID=UTC:20210725T170000
DTSTAMP:20260423T104340
CREATED:20210712T131952Z
LAST-MODIFIED:20210712T131952Z
UID:9298-1627122600-1627232400@www.carrickmines.com
SUMMARY:Handicap Golf Croquet Doubles Tournament
DESCRIPTION:
URL:https://www.carrickmines.com/event/handicap-golf-croquet-doubles-tournament/
CATEGORIES:Croquet
END:VEVENT
BEGIN:VEVENT
DTSTART;TZID=UTC:20210731T080000
DTEND;TZID=UTC:20210807T170000
DTSTAMP:20260423T104340
CREATED:20210527T152447Z
LAST-MODIFIED:20210712T131728Z
UID:9236-1627718400-1628355600@www.carrickmines.com
SUMMARY:Croquet Championships of Ireland 2021
DESCRIPTION:
URL:https://www.carrickmines.com/event/croquet-championships-of-ireland-2021/
CATEGORIES:Croquet
ATTACH;FMTTYPE=image/jpeg:https://www.carrickmines.com/wp-content/uploads/2020/08/RRM_200808__A653132.jpg
END:VEVENT
END:VCALENDAR