BEGIN:VCALENDAR
VERSION:2.0
PRODID:-//Carrickmines Croquet &amp; Lawn Tennis Club - ECPv6.15.20//NONSGML v1.0//EN
CALSCALE:GREGORIAN
METHOD:PUBLISH
X-ORIGINAL-URL:https://www.carrickmines.com
X-WR-CALDESC:Events for Carrickmines Croquet &amp; Lawn Tennis Club
REFRESH-INTERVAL;VALUE=DURATION:PT1H
X-Robots-Tag:noindex
X-PUBLISHED-TTL:PT1H
BEGIN:VTIMEZONE
TZID:UTC
BEGIN:STANDARD
TZOFFSETFROM:+0000
TZOFFSETTO:+0000
TZNAME:UTC
DTSTART:20170101T000000
END:STANDARD
END:VTIMEZONE
BEGIN:VEVENT
DTSTART;TZID=UTC:20191018T131500
DTEND;TZID=UTC:20191018T150000
DTSTAMP:20260419T174330
CREATED:20191002T134711Z
LAST-MODIFIED:20191008T075153Z
UID:7877-1571404500-1571410800@www.carrickmines.com
SUMMARY:Business Lunch with Neil Francis
DESCRIPTION:To give us his insights into what lies ahead for Joe Schmidt’s Irish squad\, we will be joined by Leinster and Irish Rugby legend Neil Francis. \nNeil has been a great servant of Irish rugby in the eighties and nineties and is well respected for his understanding of the modern game which he regularly addresses in his INM rugby columns. \nWe look forward to welcoming members\, your  business colleagues and friends to the club for what promises to be an enjoyable social occasion
URL:https://www.carrickmines.com/event/business-lunch-with-neil-francis/
CATEGORIES:Social
END:VEVENT
BEGIN:VEVENT
DTSTART;TZID=UTC:20191012T111500
DTEND;TZID=UTC:20191012T150000
DTSTAMP:20260419T174330
CREATED:20191009T160235Z
LAST-MODIFIED:20191009T160235Z
UID:7961-1570878900-1570892400@www.carrickmines.com
SUMMARY:Rugby World Cup - Ireland vs Samoa
DESCRIPTION:Saturday\, 12th October live TV coverage from 11.15am\nThe Clubhouse will be open for those members who want to watch Ireland vs Samoa
URL:https://www.carrickmines.com/event/rugby-world-cup-ireland-vs-samoa/
CATEGORIES:Social
END:VEVENT
BEGIN:VEVENT
DTSTART;TZID=UTC:20191003T111500
DTEND;TZID=UTC:20191003T133000
DTSTAMP:20260419T174330
CREATED:20191002T135016Z
LAST-MODIFIED:20191002T135016Z
UID:7879-1570101300-1570109400@www.carrickmines.com
SUMMARY:Rugby World Cup - Ireland vs Russia
DESCRIPTION:Live TV Coverage in the Clubhouse
URL:https://www.carrickmines.com/event/rugby-world-cup-ireland-vs-russia/
CATEGORIES:Social
END:VEVENT
BEGIN:VEVENT
DTSTART;TZID=UTC:20190614T193000
DTEND;TZID=UTC:20190614T213000
DTSTAMP:20260419T174330
CREATED:20190529T183712Z
LAST-MODIFIED:20190529T183712Z
UID:7767-1560540600-1560547800@www.carrickmines.com
SUMMARY:Summer League BBQ
DESCRIPTION:
URL:https://www.carrickmines.com/event/summer-league-bbq/
CATEGORIES:Senior Tennis,Social
END:VEVENT
BEGIN:VEVENT
DTSTART;TZID=UTC:20190603T110000
DTEND;TZID=UTC:20190603T150000
DTSTAMP:20260419T174330
CREATED:20190529T183624Z
LAST-MODIFIED:20190529T183624Z
UID:7765-1559559600-1559574000@www.carrickmines.com
SUMMARY:Bank Holiday Tennis & BBQ
DESCRIPTION:
URL:https://www.carrickmines.com/event/bank-holiday-tennis-bbq/
CATEGORIES:Senior Tennis,Social
END:VEVENT
BEGIN:VEVENT
DTSTART;VALUE=DATE:20190519
DTEND;VALUE=DATE:20190520
DTSTAMP:20260419T174330
CREATED:20190305T221711Z
LAST-MODIFIED:20190305T221711Z
UID:7476-1558224000-1558310399@www.carrickmines.com
SUMMARY:Carrickmines C&LTC Open Day
DESCRIPTION:
URL:https://www.carrickmines.com/event/carrickmines-cltc-open-day/
CATEGORIES:Social
END:VEVENT
BEGIN:VEVENT
DTSTART;TZID=UTC:20190511T150000
DTEND;TZID=UTC:20190511T200000
DTSTAMP:20260419T174330
CREATED:20190508T201047Z
LAST-MODIFIED:20190508T201047Z
UID:7705-1557586800-1557604800@www.carrickmines.com
SUMMARY:Round Robin & Leinster vs. Saracens
DESCRIPTION:
URL:https://www.carrickmines.com/event/round-robin-leinster-vs-saracens/
CATEGORIES:Senior Tennis,Social
END:VEVENT
BEGIN:VEVENT
DTSTART;VALUE=DATE:20190310
DTEND;VALUE=DATE:20190311
DTSTAMP:20260419T174330
CREATED:20190305T221809Z
LAST-MODIFIED:20190305T221809Z
UID:7478-1552176000-1552262399@www.carrickmines.com
SUMMARY:Round Robin & Six Nations
DESCRIPTION:
URL:https://www.carrickmines.com/event/round-robin-six-nations-3/
CATEGORIES:Senior Tennis,Social
END:VEVENT
BEGIN:VEVENT
DTSTART;TZID=UTC:20190212T190000
DTEND;TZID=UTC:20190212T210000
DTSTAMP:20260419T174330
CREATED:20190205T222252Z
LAST-MODIFIED:20190205T222252Z
UID:7340-1549998000-1550005200@www.carrickmines.com
SUMMARY:Super Tuesdays
DESCRIPTION:
URL:https://www.carrickmines.com/event/super-tuesdays-2/
CATEGORIES:Senior Tennis,Social
END:VEVENT
BEGIN:VEVENT
DTSTART;TZID=UTC:20190209T120000
DTEND;TZID=UTC:20190209T170000
DTSTAMP:20260419T174330
CREATED:20190205T222101Z
LAST-MODIFIED:20190205T222101Z
UID:7336-1549713600-1549731600@www.carrickmines.com
SUMMARY:Round Robin & Six Nations
DESCRIPTION: 
URL:https://www.carrickmines.com/event/round-robin-six-nations-2/
CATEGORIES:Senior Tennis,Social
END:VEVENT
BEGIN:VEVENT
DTSTART;TZID=UTC:20190202T150000
DTEND;TZID=UTC:20190202T210000
DTSTAMP:20260419T174330
CREATED:20190129T153631Z
LAST-MODIFIED:20190129T153631Z
UID:7245-1549119600-1549141200@www.carrickmines.com
SUMMARY:Round Robin & Six Nations
DESCRIPTION:
URL:https://www.carrickmines.com/event/round-robin-six-nations/
CATEGORIES:Senior Tennis,Social
END:VEVENT
BEGIN:VEVENT
DTSTART;TZID=UTC:20181213T120000
DTEND;TZID=UTC:20181213T150000
DTSTAMP:20260419T174330
CREATED:20181212T210721Z
LAST-MODIFIED:20181212T210721Z
UID:7056-1544702400-1544713200@www.carrickmines.com
SUMMARY:Christmas Lunch
DESCRIPTION:
URL:https://www.carrickmines.com/event/christmas-lunch/
CATEGORIES:Social
END:VEVENT
BEGIN:VEVENT
DTSTART;VALUE=DATE:20181212
DTEND;VALUE=DATE:20181213
DTSTAMP:20260419T174331
CREATED:20181212T210845Z
LAST-MODIFIED:20181212T210845Z
UID:7058-1544572800-1544659199@www.carrickmines.com
SUMMARY:Bridge Christmas Party
DESCRIPTION:
URL:https://www.carrickmines.com/event/bridge-christmas-party/
CATEGORIES:Bridge,Social
END:VEVENT
BEGIN:VEVENT
DTSTART;TZID=UTC:20181209T163000
DTEND;TZID=UTC:20181209T183000
DTSTAMP:20260419T174331
CREATED:20181212T210956Z
LAST-MODIFIED:20181212T211023Z
UID:7060-1544373000-1544380200@www.carrickmines.com
SUMMARY:Santa's Annual Visit to Carrickmines
DESCRIPTION:
URL:https://www.carrickmines.com/event/santas-annual-visit-to-carrickmines/
CATEGORIES:Social
END:VEVENT
BEGIN:VEVENT
DTSTART;TZID=UTC:20181117T183000
DTEND;TZID=UTC:20181117T203000
DTSTAMP:20260419T174331
CREATED:20181115T022329Z
LAST-MODIFIED:20181115T022329Z
UID:6989-1542479400-1542486600@www.carrickmines.com
SUMMARY:Ireland vs. New Zealand
DESCRIPTION:
URL:https://www.carrickmines.com/event/ireland-vs-new-zealand/
CATEGORIES:Social
END:VEVENT
BEGIN:VEVENT
DTSTART;TZID=UTC:20181108T094500
DTEND;TZID=UTC:20181108T150000
DTSTAMP:20260419T174331
CREATED:20181018T033548Z
LAST-MODIFIED:20181018T033548Z
UID:6892-1541670300-1541689200@www.carrickmines.com
SUMMARY:Super Thursday Fundraiser for MS Ireland
DESCRIPTION:
URL:https://www.carrickmines.com/event/super-thursday-fundraiser-for-ms-ireland/
CATEGORIES:Senior Tennis,Social
END:VEVENT
BEGIN:VEVENT
DTSTART;TZID=UTC:20181103T193000
DTEND;TZID=UTC:20181103T213000
DTSTAMP:20260419T174331
CREATED:20181101T222006Z
LAST-MODIFIED:20181101T222006Z
UID:6930-1541273400-1541280600@www.carrickmines.com
SUMMARY:Ireland vs. Italy Happy Hour
DESCRIPTION:
URL:https://www.carrickmines.com/event/ireland-vs-italy-happy-hour/
CATEGORIES:Social
END:VEVENT
BEGIN:VEVENT
DTSTART;TZID=UTC:20181019T193000
DTEND;TZID=UTC:20181019T230000
DTSTAMP:20260419T174331
CREATED:20181018T032501Z
LAST-MODIFIED:20181018T032501Z
UID:6882-1539977400-1539990000@www.carrickmines.com
SUMMARY:Reception for World Champion June Ann
DESCRIPTION:
URL:https://www.carrickmines.com/event/reception-for-world-champion-june-ann/
CATEGORIES:Social
END:VEVENT
END:VCALENDAR