BEGIN:VCALENDAR
VERSION:2.0
PRODID:-//Carrickmines Croquet &amp; Lawn Tennis Club - ECPv6.15.20//NONSGML v1.0//EN
CALSCALE:GREGORIAN
METHOD:PUBLISH
X-ORIGINAL-URL:https://www.carrickmines.com
X-WR-CALDESC:Events for Carrickmines Croquet &amp; Lawn Tennis Club
REFRESH-INTERVAL;VALUE=DURATION:PT1H
X-Robots-Tag:noindex
X-PUBLISHED-TTL:PT1H
BEGIN:VTIMEZONE
TZID:UTC
BEGIN:STANDARD
TZOFFSETFROM:+0000
TZOFFSETTO:+0000
TZNAME:UTC
DTSTART:20200101T000000
END:STANDARD
END:VTIMEZONE
BEGIN:VEVENT
DTSTART;TZID=UTC:20211128T110000
DTEND;TZID=UTC:20211128T140000
DTSTAMP:20260423T160558
CREATED:20211102T123258Z
LAST-MODIFIED:20211102T123258Z
UID:9548-1638097200-1638108000@www.carrickmines.com
SUMMARY:Croquet Turkey Tournament - GC
DESCRIPTION:
URL:https://www.carrickmines.com/event/croquet-turkey-tournament-gc-2/
CATEGORIES:Croquet
END:VEVENT
BEGIN:VEVENT
DTSTART;TZID=UTC:20211128T140000
DTEND;TZID=UTC:20211128T160000
DTSTAMP:20260423T160558
CREATED:20211102T123021Z
LAST-MODIFIED:20211102T123050Z
UID:9544-1638108000-1638115200@www.carrickmines.com
SUMMARY:Croquet Turkey Tournament - AC
DESCRIPTION:
URL:https://www.carrickmines.com/event/croquet-turkey-tournament-ac-2/
CATEGORIES:Croquet
END:VEVENT
END:VCALENDAR