BEGIN:VCALENDAR
VERSION:2.0
PRODID:-//Carrickmines Croquet &amp; Lawn Tennis Club - ECPv6.15.20//NONSGML v1.0//EN
CALSCALE:GREGORIAN
METHOD:PUBLISH
X-WR-CALNAME:Carrickmines Croquet &amp; Lawn Tennis Club
X-ORIGINAL-URL:https://www.carrickmines.com
X-WR-CALDESC:Events for Carrickmines Croquet &amp; Lawn Tennis Club
REFRESH-INTERVAL;VALUE=DURATION:PT1H
X-Robots-Tag:noindex
X-PUBLISHED-TTL:PT1H
BEGIN:VTIMEZONE
TZID:UTC
BEGIN:STANDARD
TZOFFSETFROM:+0000
TZOFFSETTO:+0000
TZNAME:UTC
DTSTART:20180101T000000
END:STANDARD
END:VTIMEZONE
BEGIN:VEVENT
DTSTART;TZID=UTC:20190926T190000
DTEND;TZID=UTC:20190926T220000
DTSTAMP:20260423T212252
CREATED:20190909T190444Z
LAST-MODIFIED:20190909T190444Z
UID:7820-1569524400-1569535200@www.carrickmines.com
SUMMARY:Frank Keane BMW Team Tennis - Semis/Finals & Dinner Presentation
DESCRIPTION:
URL:https://www.carrickmines.com/event/frank-keane-bmw-team-tennis-semis-finals-dinner-presentation/
END:VEVENT
END:VCALENDAR