BEGIN:VCALENDAR
VERSION:2.0
PRODID:-//Carrickmines Croquet &amp; Lawn Tennis Club - ECPv6.15.20//NONSGML v1.0//EN
CALSCALE:GREGORIAN
METHOD:PUBLISH
X-ORIGINAL-URL:https://www.carrickmines.com
X-WR-CALDESC:Events for Carrickmines Croquet &amp; Lawn Tennis Club
REFRESH-INTERVAL;VALUE=DURATION:PT1H
X-Robots-Tag:noindex
X-PUBLISHED-TTL:PT1H
BEGIN:VTIMEZONE
TZID:UTC
BEGIN:STANDARD
TZOFFSETFROM:+0000
TZOFFSETTO:+0000
TZNAME:UTC
DTSTART:20180101T000000
END:STANDARD
END:VTIMEZONE
BEGIN:VEVENT
DTSTART;TZID=UTC:20190912T090000
DTEND;TZID=UTC:20190912T100000
DTSTAMP:20260423T231546
CREATED:20190909T191852Z
LAST-MODIFIED:20190909T191852Z
UID:7840-1568278800-1568282400@www.carrickmines.com
SUMMARY:Cardio Tennis - 6 Week Course
DESCRIPTION:Cardio Tennis\nMornings – Thursdays 9am – 10am cardio tennis – commences September 12th  – 6 weeks €50\nEvenings – commences October 3rd – 6 weeks €50
URL:https://www.carrickmines.com/event/cardio-tennis-6-week-course/
END:VEVENT
BEGIN:VEVENT
DTSTART;TZID=UTC:20190912T100000
DTEND;TZID=UTC:20190912T110000
DTSTAMP:20260423T231546
CREATED:20190909T191736Z
LAST-MODIFIED:20190909T191752Z
UID:7838-1568282400-1568286000@www.carrickmines.com
SUMMARY:Adult Coaching 6 weeks course
DESCRIPTION:Adult Coaching\nThursdays 10am-11am Beginners  / Improvers coaching from September 12th\n6 week course from €50
URL:https://www.carrickmines.com/event/adult-coaching-6-weeks-course/
END:VEVENT
END:VCALENDAR