BEGIN:VCALENDAR
VERSION:2.0
PRODID:-//Carrickmines Croquet &amp; Lawn Tennis Club - ECPv6.15.20//NONSGML v1.0//EN
CALSCALE:GREGORIAN
METHOD:PUBLISH
X-WR-CALNAME:Carrickmines Croquet &amp; Lawn Tennis Club
X-ORIGINAL-URL:https://www.carrickmines.com
X-WR-CALDESC:Events for Carrickmines Croquet &amp; Lawn Tennis Club
REFRESH-INTERVAL;VALUE=DURATION:PT1H
X-Robots-Tag:noindex
X-PUBLISHED-TTL:PT1H
BEGIN:VTIMEZONE
TZID:UTC
BEGIN:STANDARD
TZOFFSETFROM:+0000
TZOFFSETTO:+0000
TZNAME:UTC
DTSTART:20180101T000000
END:STANDARD
END:VTIMEZONE
BEGIN:VEVENT
DTSTART;TZID=UTC:20190911T190000
DTEND;TZID=UTC:20190911T200000
DTSTAMP:20260423T212252
CREATED:20190909T191156Z
LAST-MODIFIED:20190909T191156Z
UID:7826-1568228400-1568232000@www.carrickmines.com
SUMMARY:Adult Coaching
DESCRIPTION:Adult Coaching\nBeginner / Improver Coaching\,  Wednesday evenings from September 11th \, 7-8pm (indoor courts) – 6 weeks –€50 (no session 25th Sept Team tennis).
URL:https://www.carrickmines.com/event/adult-coaching/
END:VEVENT
END:VCALENDAR