BEGIN:VCALENDAR
VERSION:2.0
PRODID:-//Carrickmines Croquet &amp; Lawn Tennis Club - ECPv6.15.20//NONSGML v1.0//EN
CALSCALE:GREGORIAN
METHOD:PUBLISH
X-WR-CALNAME:Carrickmines Croquet &amp; Lawn Tennis Club
X-ORIGINAL-URL:https://www.carrickmines.com
X-WR-CALDESC:Events for Carrickmines Croquet &amp; Lawn Tennis Club
REFRESH-INTERVAL;VALUE=DURATION:PT1H
X-Robots-Tag:noindex
X-PUBLISHED-TTL:PT1H
BEGIN:VTIMEZONE
TZID:UTC
BEGIN:STANDARD
TZOFFSETFROM:+0000
TZOFFSETTO:+0000
TZNAME:UTC
DTSTART:20180101T000000
END:STANDARD
END:VTIMEZONE
BEGIN:VEVENT
DTSTART;VALUE=DATE:20190212
DTEND;VALUE=DATE:20190213
DTSTAMP:20260423T160444
CREATED:20190205T222333Z
LAST-MODIFIED:20190205T222333Z
UID:7343-1549929600-1550015999@www.carrickmines.com
SUMMARY:RIYC for Supper & Bridge
DESCRIPTION:
URL:https://www.carrickmines.com/event/riyc-for-supper-bridge/
CATEGORIES:Bridge
END:VEVENT
BEGIN:VEVENT
DTSTART;TZID=UTC:20190212T190000
DTEND;TZID=UTC:20190212T210000
DTSTAMP:20260423T160444
CREATED:20190205T222252Z
LAST-MODIFIED:20190205T222252Z
UID:7340-1549998000-1550005200@www.carrickmines.com
SUMMARY:Super Tuesdays
DESCRIPTION:
URL:https://www.carrickmines.com/event/super-tuesdays-2/
CATEGORIES:Senior Tennis,Social
END:VEVENT
END:VCALENDAR